BEGIN:VCALENDAR
VERSION:2.0
PRODID:-//NRG Rochester - ECPv6.15.20//NONSGML v1.0//EN
CALSCALE:GREGORIAN
METHOD:PUBLISH
X-WR-CALNAME:NRG Rochester
X-ORIGINAL-URL:https://nrgrochester.com
X-WR-CALDESC:Events for NRG Rochester
REFRESH-INTERVAL;VALUE=DURATION:PT1H
X-Robots-Tag:noindex
X-PUBLISHED-TTL:PT1H
BEGIN:VTIMEZONE
TZID:America/New_York
BEGIN:DAYLIGHT
TZOFFSETFROM:-0500
TZOFFSETTO:-0400
TZNAME:EDT
DTSTART:20250309T070000
END:DAYLIGHT
BEGIN:STANDARD
TZOFFSETFROM:-0400
TZOFFSETTO:-0500
TZNAME:EST
DTSTART:20251102T060000
END:STANDARD
BEGIN:DAYLIGHT
TZOFFSETFROM:-0500
TZOFFSETTO:-0400
TZNAME:EDT
DTSTART:20260308T070000
END:DAYLIGHT
BEGIN:STANDARD
TZOFFSETFROM:-0400
TZOFFSETTO:-0500
TZNAME:EST
DTSTART:20261101T060000
END:STANDARD
BEGIN:DAYLIGHT
TZOFFSETFROM:-0500
TZOFFSETTO:-0400
TZNAME:EDT
DTSTART:20270314T070000
END:DAYLIGHT
BEGIN:STANDARD
TZOFFSETFROM:-0400
TZOFFSETTO:-0500
TZNAME:EST
DTSTART:20271107T060000
END:STANDARD
END:VTIMEZONE
BEGIN:VEVENT
DTSTART;TZID=America/New_York:20260428T071500
DTEND;TZID=America/New_York:20260428T083000
DTSTAMP:20260423T071541
CREATED:20260408T220531Z
LAST-MODIFIED:20260422T124259Z
UID:2438-1777360500-1777365000@nrgrochester.com
SUMMARY:NRG Meeting April 28
DESCRIPTION:April’s Greeter is Sara Cousins and our Presider is Tom Breslawski. \nMarketing Magician: ?Presenter: Chris Moulton \nWelcome to our weekly NRG meeting! We welcome guests at our meetings\, where business owners and professionals come together for support\, collaboration and business referrals. We meet weekly and at scheduled social and after hours events. Contact us for more info about our group or our meetings. \nInterested in attending? You can be our guest for up to two meetings before deciding on whether to officially join. No reservation is needed\, just join us Tuesday mornings at the Al Sigl Community of Agencies\, Golisano Building Door #1 in Rochester.
URL:https://nrgrochester.com/calendar/nrg-meeting-april-28/
LOCATION:Al Sigl Community of Agencies\, 1000 Elmwood Ave\, Rochester\, NY\, 14620\, United States
CATEGORIES:NRG Meeting
ATTACH;FMTTYPE=image/jpeg:https://nrgrochester.com/wp-content/uploads/2024/01/golisano-building-entrance.jpg
ORGANIZER;CN="Network Referral Group of Rochester":MAILTO:more@nrgrochester.org
END:VEVENT
BEGIN:VEVENT
DTSTART;TZID=America/New_York:20260505T071500
DTEND;TZID=America/New_York:20260505T083000
DTSTAMP:20260423T071541
CREATED:20260408T220653Z
LAST-MODIFIED:20260422T124332Z
UID:2440-1777965300-1777969800@nrgrochester.com
SUMMARY:NRG Meeting May 5
DESCRIPTION:May’s Greeter is Lisa Kretzer and our Presider is Sara Cousins. \nMarketing Magician: Chris MoultonPresenter: Krista Hudson \nWelcome to our weekly NRG meeting! We welcome guests at our meetings\, where business owners and professionals come together for support\, collaboration and business referrals. We meet weekly and at scheduled social and after hours events. Contact us for more info about our group or our meetings. \nInterested in attending? You can be our guest for up to two meetings before deciding on whether to officially join. No reservation is needed\, just join us Tuesday mornings at the Al Sigl Community of Agencies\, Golisano Building Door #1 in Rochester.
URL:https://nrgrochester.com/calendar/nrg-meeting-may-5/
LOCATION:Al Sigl Community of Agencies\, 1000 Elmwood Ave\, Rochester\, NY\, 14620\, United States
CATEGORIES:NRG Meeting
ATTACH;FMTTYPE=image/jpeg:https://nrgrochester.com/wp-content/uploads/2024/01/golisano-building-entrance.jpg
ORGANIZER;CN="Network Referral Group of Rochester":MAILTO:more@nrgrochester.org
END:VEVENT
BEGIN:VEVENT
DTSTART;TZID=America/New_York:20260512T071500
DTEND;TZID=America/New_York:20260512T083000
DTSTAMP:20260423T071541
CREATED:20260408T220746Z
LAST-MODIFIED:20260422T124353Z
UID:2442-1778570100-1778574600@nrgrochester.com
SUMMARY:NRG Meeting May 12
DESCRIPTION:May’s Greeter is Lisa Kretzer and our Presider is Sara Cousins. \nMarketing Magician: Krista HudsonPresenter: Hugh Miller \nWelcome to our weekly NRG meeting! We welcome guests at our meetings\, where business owners and professionals come together for support\, collaboration and business referrals. We meet weekly and at scheduled social and after hours events. Contact us for more info about our group or our meetings. \nInterested in attending? You can be our guest for up to two meetings before deciding on whether to officially join. No reservation is needed\, just join us Tuesday mornings at the Al Sigl Community of Agencies\, Golisano Building Door #1 in Rochester.
URL:https://nrgrochester.com/calendar/nrg-meeting-may-12/
LOCATION:Al Sigl Community of Agencies\, 1000 Elmwood Ave\, Rochester\, NY\, 14620\, United States
CATEGORIES:NRG Meeting
ATTACH;FMTTYPE=image/jpeg:https://nrgrochester.com/wp-content/uploads/2024/01/golisano-building-entrance.jpg
ORGANIZER;CN="Network Referral Group of Rochester":MAILTO:more@nrgrochester.org
END:VEVENT
BEGIN:VEVENT
DTSTART;TZID=America/New_York:20260519T071500
DTEND;TZID=America/New_York:20260519T083000
DTSTAMP:20260423T071541
CREATED:20260408T220826Z
LAST-MODIFIED:20260422T124425Z
UID:2444-1779174900-1779179400@nrgrochester.com
SUMMARY:NRG Meeting May 19
DESCRIPTION:May’s Greeter is Lisa Kretzer and our Presider is Sara Cousins. \nMarketing Magician: Hugh MillerPresenter: Lisa Kretzer \nWelcome to our weekly NRG meeting! We welcome guests at our meetings\, where business owners and professionals come together for support\, collaboration and business referrals. We meet weekly and at scheduled social and after hours events. Contact us for more info about our group or our meetings. \nInterested in attending? You can be our guest for up to two meetings before deciding on whether to officially join. No reservation is needed\, just join us Tuesday mornings at the Al Sigl Community of Agencies\, Golisano Building Door #1 in Rochester.
URL:https://nrgrochester.com/calendar/nrg-meeting-may-19/
LOCATION:Al Sigl Community of Agencies\, 1000 Elmwood Ave\, Rochester\, NY\, 14620\, United States
CATEGORIES:NRG Meeting
ATTACH;FMTTYPE=image/jpeg:https://nrgrochester.com/wp-content/uploads/2024/01/golisano-building-entrance.jpg
ORGANIZER;CN="Network Referral Group of Rochester":MAILTO:more@nrgrochester.org
END:VEVENT
BEGIN:VEVENT
DTSTART;TZID=America/New_York:20260521T180000
DTEND;TZID=America/New_York:20260521T203000
DTSTAMP:20260423T071541
CREATED:20260422T161007Z
LAST-MODIFIED:20260422T161007Z
UID:2463-1779386400-1779395400@nrgrochester.com
SUMMARY:﻿﻿﻿NRG Trivia Night at Mulconry’s
DESCRIPTION:Let’s Pack the Pub!\nThis is our chance to unwind\, laugh and put our collective NRG brainpower to work. \nWe spend Tuesday mornings building each other’s businesses.\nTonight\, we get to build the friendships behind those referrals. \nThis is where the real community happens — over food\, drinks\, laughs\, and a little friendly competition. \nBring your brain. 🧠\nBring your appetite. 🍽️\nBring a friend if you want — the more minds\, the better. 👋 \nLet’s pack Mulconry’s\, take over a few tables\, and show Greece what the NRG crew is all about. \nTrivia starts at 7:00 pm but it’s highly recommended to arrive early – they warned us it gets busy! \nPlease RSVP to Dale to let him know whether you’ll be attending or not.
URL:https://nrgrochester.com/calendar/nrg-trivia-night-at-mulconrys-may-21-2026/
LOCATION:Mulconry’s Irish Pub\, 390 Elmridge Center Dr\, Greece\, NY\, 14626
CATEGORIES:Social Gathering
ATTACH;FMTTYPE=image/webp:https://nrgrochester.com/wp-content/uploads/2026/04/mulconrys-greece-flx-trivia-night.webp
ORGANIZER;CN="Network Referral Group of Rochester":MAILTO:more@nrgrochester.org
END:VEVENT
BEGIN:VEVENT
DTSTART;TZID=America/New_York:20260526T071500
DTEND;TZID=America/New_York:20260526T083000
DTSTAMP:20260423T071541
CREATED:20260408T221035Z
LAST-MODIFIED:20260408T221035Z
UID:2447-1779779700-1779784200@nrgrochester.com
SUMMARY:No Meeting – May 26
DESCRIPTION:There is no weekly meeting today in observance of Memorial Day. \nWe look forward to seeing everyone next week on June 2 for our regularly scheduled meeting.
URL:https://nrgrochester.com/calendar/no-meeting-may-26/
LOCATION:Al Sigl Community of Agencies\, 1000 Elmwood Ave\, Rochester\, NY\, 14620\, United States
CATEGORIES:NRG Meeting
ATTACH;FMTTYPE=image/jpeg:https://nrgrochester.com/wp-content/uploads/2024/01/golisano-building-entrance.jpg
ORGANIZER;CN="Network Referral Group of Rochester":MAILTO:more@nrgrochester.org
END:VEVENT
BEGIN:VEVENT
DTSTART;TZID=America/New_York:20260602T071500
DTEND;TZID=America/New_York:20260602T083000
DTSTAMP:20260423T071541
CREATED:20260408T221159Z
LAST-MODIFIED:20260408T221159Z
UID:2449-1780384500-1780389000@nrgrochester.com
SUMMARY:NRG Meeting June 2
DESCRIPTION:June’s Greeter is TBD and our Presider is Lisa Kretzer. \nMarketing Magician: Chris MoultonPresenter: Lou Sabo \nWelcome to our weekly NRG meeting! We welcome guests at our meetings\, where business owners and professionals come together for support\, collaboration and business referrals. We meet weekly and at scheduled social and after hours events. Contact us for more info about our group or our meetings. \nInterested in attending? You can be our guest for up to two meetings before deciding on whether to officially join. No reservation is needed\, just join us Tuesday mornings at the Al Sigl Community of Agencies\, Golisano Building Door #1 in Rochester.
URL:https://nrgrochester.com/calendar/nrg-meeting-june-2/
LOCATION:Al Sigl Community of Agencies\, 1000 Elmwood Ave\, Rochester\, NY\, 14620\, United States
CATEGORIES:NRG Meeting
ATTACH;FMTTYPE=image/jpeg:https://nrgrochester.com/wp-content/uploads/2024/01/golisano-building-entrance.jpg
ORGANIZER;CN="Network Referral Group of Rochester":MAILTO:more@nrgrochester.org
END:VEVENT
END:VCALENDAR